Package: systemPipeR Version: 2.14.2 Command: E:\biocbuild\bbs-3.21-bioc\R\bin\R.exe CMD INSTALL systemPipeR StartedAt: 2025-08-14 16:29:22 -0400 (Thu, 14 Aug 2025) EndedAt: 2025-08-14 16:33:53 -0400 (Thu, 14 Aug 2025) EllapsedTime: 270.8 seconds RetCode: 0 Status: OK