Package: systemPipeR Version: 2.14.2 Command: rm -rf systemPipeR.buildbin-libdir && mkdir systemPipeR.buildbin-libdir && E:\biocbuild\bbs-3.21-bioc\R\bin\R.exe CMD INSTALL --build --library=systemPipeR.buildbin-libdir systemPipeR_2.14.2.tar.gz StartedAt: 2025-08-15 10:26:47 -0400 (Fri, 15 Aug 2025) EndedAt: 2025-08-15 10:30:54 -0400 (Fri, 15 Aug 2025) EllapsedTime: 247.1 seconds RetCode: 0 Status: OK PackageFile: systemPipeR_2.14.2.zip PackageFileSize: 6.364 MiB