Package: systemPipeR Version: 2.14.2 Command: /home/biocbuild/bbs-3.21-bioc/R/bin/R CMD INSTALL systemPipeR StartedAt: 2025-10-15 15:49:34 -0400 (Wed, 15 Oct 2025) EndedAt: 2025-10-15 15:50:21 -0400 (Wed, 15 Oct 2025) EllapsedTime: 46.5 seconds RetCode: 0 Status: OK