Package: systemPipeR Version: 2.14.2 Command: /home/biocbuild/bbs-3.21-bioc/R/bin/R CMD check --install=check:systemPipeR.install-out.txt --library=/home/biocbuild/bbs-3.21-bioc/R/site-library --timings systemPipeR_2.14.2.tar.gz StartedAt: 2025-10-16 04:16:34 -0400 (Thu, 16 Oct 2025) EndedAt: 2025-10-16 04:23:02 -0400 (Thu, 16 Oct 2025) EllapsedTime: 387.6 seconds RetCode: 0 Status: OK CheckDir: systemPipeR.Rcheck Warnings: 0