Package: systemPipeR Version: 2.14.2 Command: /home/biocbuild/bbs-3.21-bioc/R/bin/R CMD build --keep-empty-dirs --no-resave-data systemPipeR StartedAt: 2025-10-15 20:14:20 -0400 (Wed, 15 Oct 2025) EndedAt: 2025-10-15 20:15:37 -0400 (Wed, 15 Oct 2025) EllapsedTime: 77.1 seconds RetCode: 0 Status: OK PackageFile: systemPipeR_2.14.2.tar.gz PackageFileSize: 6.5 MiB