Package: systemPipeR Version: 2.14.0 Command: /Library/Frameworks/R.framework/Resources/bin/R CMD build --keep-empty-dirs --no-resave-data systemPipeR StartedAt: 2025-04-21 18:40:40 -0400 (Mon, 21 Apr 2025) EndedAt: 2025-04-21 18:42:28 -0400 (Mon, 21 Apr 2025) EllapsedTime: 108.5 seconds RetCode: 0 Status: OK PackageFile: systemPipeR_2.14.0.tar.gz PackageFileSize: 6.497 MiB