Package: systemPipeR Version: 2.14.2 Command: /Library/Frameworks/R.framework/Resources/bin/R CMD INSTALL systemPipeR StartedAt: 2025-10-13 17:57:26 -0400 (Mon, 13 Oct 2025) EndedAt: 2025-10-13 17:58:19 -0400 (Mon, 13 Oct 2025) EllapsedTime: 53.2 seconds RetCode: 0 Status: OK