Package: systemPipeR Version: 2.14.2 Command: /Library/Frameworks/R.framework/Resources/bin/R CMD check --install=check:systemPipeR.install-out.txt --library=/Library/Frameworks/R.framework/Resources/library --no-vignettes --timings systemPipeR_2.14.2.tar.gz StartedAt: 2025-10-15 14:52:39 -0400 (Wed, 15 Oct 2025) EndedAt: 2025-10-15 14:59:34 -0400 (Wed, 15 Oct 2025) EllapsedTime: 414.7 seconds RetCode: 0 Status: OK CheckDir: systemPipeR.Rcheck Warnings: 0