Package: systemPipeR Version: 2.14.2 Command: /Library/Frameworks/R.framework/Resources/bin/R CMD build --keep-empty-dirs --no-resave-data systemPipeR StartedAt: 2025-10-14 10:49:07 -0400 (Tue, 14 Oct 2025) EndedAt: 2025-10-14 10:50:58 -0400 (Tue, 14 Oct 2025) EllapsedTime: 110.9 seconds RetCode: 0 Status: OK PackageFile: systemPipeR_2.14.2.tar.gz PackageFileSize: 6.498 MiB