Package: systemPipeR Version: 2.14.2 Command: rm -rf systemPipeR.buildbin-libdir && mkdir systemPipeR.buildbin-libdir && /Users/biocbuild/BBS/utils/build-universal.sh systemPipeR_2.14.2.tar.gz /Library/Frameworks/R.framework/Resources/bin/R systemPipeR.buildbin-libdir StartedAt: 2025-10-15 20:47:03 -0400 (Wed, 15 Oct 2025) EndedAt: 2025-10-15 20:48:05 -0400 (Wed, 15 Oct 2025) EllapsedTime: 62.2 seconds RetCode: 0 Status: OK PackageFile: systemPipeR_2.14.2.tgz PackageFileSize: 6.287 MiB