Package: synergyfinder Version: 3.16.0 Command: /Library/Frameworks/R.framework/Resources/bin/R CMD INSTALL synergyfinder StartedAt: 2025-10-13 15:17:53 -0400 (Mon, 13 Oct 2025) EndedAt: 2025-10-13 15:18:32 -0400 (Mon, 13 Oct 2025) EllapsedTime: 39.2 seconds RetCode: 0 Status: OK