Package: synergyfinder Version: 3.16.0 Command: rm -rf synergyfinder.buildbin-libdir && mkdir synergyfinder.buildbin-libdir && /Users/biocbuild/BBS/utils/build-universal.sh synergyfinder_3.16.0.tar.gz /Library/Frameworks/R.framework/Resources/bin/R synergyfinder.buildbin-libdir StartedAt: 2025-10-14 14:55:48 -0400 (Tue, 14 Oct 2025) EndedAt: 2025-10-14 14:56:10 -0400 (Tue, 14 Oct 2025) EllapsedTime: 21.8 seconds RetCode: 0 Status: OK PackageFile: synergyfinder_3.16.0.tgz PackageFileSize: 3.892 MiB