Package: synergyfinder Version: 3.16.0 Command: /Library/Frameworks/R.framework/Resources/bin/R CMD check --install=check:synergyfinder.install-out.txt --library=/Library/Frameworks/R.framework/Resources/library --no-vignettes --timings synergyfinder_3.16.0.tar.gz StartedAt: 2025-04-21 23:59:22 -0400 (Mon, 21 Apr 2025) EndedAt: 2025-04-22 00:01:10 -0400 (Tue, 22 Apr 2025) EllapsedTime: 108.6 seconds RetCode: 0 Status: WARNINGS CheckDir: synergyfinder.Rcheck Warnings: 1