Package: synapter Version: 2.32.0 Command: chmod a+r synapter -R && E:\biocbuild\bbs-3.21-bioc\R\bin\R.exe CMD build --keep-empty-dirs --no-resave-data synapter StartedAt: 2025-08-14 22:37:17 -0400 (Thu, 14 Aug 2025) EndedAt: 2025-08-14 22:42:01 -0400 (Thu, 14 Aug 2025) EllapsedTime: 284.0 seconds RetCode: 1 Status: ERROR PackageFile: None PackageFileSize: NA