Package: synapter Version: 2.31.0 Command: rm -rf synapter.buildbin-libdir && mkdir synapter.buildbin-libdir && E:\biocbuild\bbs-3.21-bioc\R\bin\R.exe CMD INSTALL --build --library=synapter.buildbin-libdir synapter_2.31.0.tar.gz StartedAt: 2025-03-05 08:50:23 -0500 (Wed, 05 Mar 2025) EndedAt: 2025-03-05 08:52:38 -0500 (Wed, 05 Mar 2025) EllapsedTime: 135.0 seconds RetCode: 0 Status: OK PackageFile: synapter_2.31.0.zip PackageFileSize: 3.626 MiB