Package: synapter Version: 2.32.0 Command: /home/biocbuild/bbs-3.21-bioc/R/bin/R CMD INSTALL synapter StartedAt: 2025-10-15 15:36:06 -0400 (Wed, 15 Oct 2025) EndedAt: 2025-10-15 15:37:05 -0400 (Wed, 15 Oct 2025) EllapsedTime: 58.5 seconds RetCode: 0 Status: OK