Package: synapter Version: 2.32.0 Command: /Library/Frameworks/R.framework/Resources/bin/R CMD build --keep-empty-dirs --no-resave-data synapter StartedAt: 2025-10-13 23:08:12 -0400 (Mon, 13 Oct 2025) EndedAt: 2025-10-13 23:13:36 -0400 (Mon, 13 Oct 2025) EllapsedTime: 323.6 seconds RetCode: 1 Status: ERROR PackageFile: None PackageFileSize: NA