Package: synapter Version: 2.32.0 Command: /Library/Frameworks/R.framework/Resources/bin/R CMD INSTALL synapter StartedAt: 2025-10-13 17:04:25 -0400 (Mon, 13 Oct 2025) EndedAt: 2025-10-13 17:05:34 -0400 (Mon, 13 Oct 2025) EllapsedTime: 69.0 seconds RetCode: 0 Status: OK