Package: synapter Version: 2.32.0 Maintainer: Laurent Gatto MaintainerEmail: laurent.gatto at uclouvain.be git_url: https://git.bioconductor.org/packages/synapter git_branch: RELEASE_3_21 git_last_commit: 0048d2d git_last_commit_date: 2025-04-15 10:14:29 -0400 (Tue, 15 Apr 2025)