Package: synapsis Version: 1.14.0 Command: /Library/Frameworks/R.framework/Resources/bin/R CMD check --install=check:synapsis.install-out.txt --library=/Library/Frameworks/R.framework/Resources/library --no-vignettes --timings synapsis_1.14.0.tar.gz StartedAt: 2025-04-21 23:59:17 -0400 (Mon, 21 Apr 2025) EndedAt: 2025-04-22 00:00:09 -0400 (Tue, 22 Apr 2025) EllapsedTime: 52.3 seconds RetCode: 0 Status: OK CheckDir: synapsis.Rcheck Warnings: 0