Package: synapsis Version: 1.14.0 Command: /home/biocbuild/R/R/bin/R CMD check --install=check:synapsis.install-out.txt --library=/home/biocbuild/R/R/site-library --no-vignettes --timings synapsis_1.14.0.tar.gz StartedAt: 2025-10-10 14:41:44 -0000 (Fri, 10 Oct 2025) EndedAt: 2025-10-10 14:42:29 -0000 (Fri, 10 Oct 2025) EllapsedTime: 45.0 seconds RetCode: 0 Status: OK CheckDir: synapsis.Rcheck Warnings: 0