Package: switchde Version: 1.34.0 Command: E:\biocbuild\bbs-3.21-bioc\R\bin\R.exe CMD check --no-multiarch --install=check:switchde.install-out.txt --library=E:\biocbuild\bbs-3.21-bioc\R\library --no-vignettes --timings switchde_1.34.0.tar.gz StartedAt: 2025-08-15 07:40:03 -0400 (Fri, 15 Aug 2025) EndedAt: 2025-08-15 07:43:39 -0400 (Fri, 15 Aug 2025) EllapsedTime: 215.9 seconds RetCode: 0 Status: OK CheckDir: switchde.Rcheck Warnings: 0