Package: svaNUMT Version: 1.14.0 Command: chmod a+r svaNUMT -R && E:\biocbuild\bbs-3.21-bioc\R\bin\R.exe CMD build --keep-empty-dirs --no-resave-data svaNUMT StartedAt: 2025-08-14 22:36:24 -0400 (Thu, 14 Aug 2025) EndedAt: 2025-08-14 22:38:00 -0400 (Thu, 14 Aug 2025) EllapsedTime: 95.2 seconds RetCode: 0 Status: OK PackageFile: svaNUMT_1.14.0.tar.gz PackageFileSize: 700.7 KiB