Package: svaNUMT Version: 1.14.0 Command: rm -rf svaNUMT.buildbin-libdir && mkdir svaNUMT.buildbin-libdir && E:\biocbuild\bbs-3.21-bioc\R\bin\R.exe CMD INSTALL --build --library=svaNUMT.buildbin-libdir svaNUMT_1.14.0.tar.gz StartedAt: 2025-08-15 10:26:04 -0400 (Fri, 15 Aug 2025) EndedAt: 2025-08-15 10:26:52 -0400 (Fri, 15 Aug 2025) EllapsedTime: 47.4 seconds RetCode: 0 Status: OK PackageFile: svaNUMT_1.14.0.zip PackageFileSize: 632.3 KiB