Package: svaNUMT Version: 1.14.0 Command: /home/biocbuild/bbs-3.21-bioc/R/bin/R CMD INSTALL svaNUMT StartedAt: 2025-10-15 15:50:06 -0400 (Wed, 15 Oct 2025) EndedAt: 2025-10-15 15:50:44 -0400 (Wed, 15 Oct 2025) EllapsedTime: 37.8 seconds RetCode: 0 Status: OK