Package: svaNUMT Version: 1.14.0 Command: /home/biocbuild/bbs-3.21-bioc/R/bin/R CMD build --keep-empty-dirs --no-resave-data svaNUMT StartedAt: 2025-10-15 20:12:43 -0400 (Wed, 15 Oct 2025) EndedAt: 2025-10-15 20:13:52 -0400 (Wed, 15 Oct 2025) EllapsedTime: 69.1 seconds RetCode: 0 Status: OK PackageFile: svaNUMT_1.14.0.tar.gz PackageFileSize: 813 KiB