Package: svaNUMT Version: 1.14.0 Command: /Library/Frameworks/R.framework/Resources/bin/R CMD build --keep-empty-dirs --no-resave-data svaNUMT StartedAt: 2025-10-13 23:07:07 -0400 (Mon, 13 Oct 2025) EndedAt: 2025-10-13 23:09:46 -0400 (Mon, 13 Oct 2025) EllapsedTime: 158.9 seconds RetCode: 0 Status: OK PackageFile: svaNUMT_1.14.0.tar.gz PackageFileSize: 818.1 KiB