Package: sva Version: 3.56.0 Command: /home/biocbuild/bbs-3.21-bioc/R/bin/R CMD build --keep-empty-dirs --no-resave-data sva StartedAt: 2025-10-15 20:12:42 -0400 (Wed, 15 Oct 2025) EndedAt: 2025-10-15 20:13:35 -0400 (Wed, 15 Oct 2025) EllapsedTime: 53.0 seconds RetCode: 0 Status: OK PackageFile: sva_3.56.0.tar.gz PackageFileSize: 441.9 KiB