Package: sva Version: 3.56.0 Command: /Library/Frameworks/R.framework/Resources/bin/R CMD check --install=check:sva.install-out.txt --library=/Library/Frameworks/R.framework/Resources/library --no-vignettes --timings sva_3.56.0.tar.gz StartedAt: 2025-10-07 11:10:22 -0400 (Tue, 07 Oct 2025) EndedAt: 2025-10-07 11:17:48 -0400 (Tue, 07 Oct 2025) EllapsedTime: 445.8 seconds RetCode: 0 Status: OK CheckDir: sva.Rcheck Warnings: 0