Package: sva Version: 3.56.0 Command: /Library/Frameworks/R.framework/Resources/bin/R CMD build --keep-empty-dirs --no-resave-data sva StartedAt: 2025-10-06 23:04:34 -0400 (Mon, 06 Oct 2025) EndedAt: 2025-10-06 23:06:35 -0400 (Mon, 06 Oct 2025) EllapsedTime: 121.2 seconds RetCode: 0 Status: OK PackageFile: sva_3.56.0.tar.gz PackageFileSize: 441.5 KiB