Package: sva Version: 3.56.0 Command: rm -rf sva.buildbin-libdir && mkdir sva.buildbin-libdir && /Users/biocbuild/BBS/utils/build-universal.sh sva_3.56.0.tar.gz /Library/Frameworks/R.framework/Resources/bin/R sva.buildbin-libdir StartedAt: 2025-10-07 14:42:12 -0400 (Tue, 07 Oct 2025) EndedAt: 2025-10-07 14:43:08 -0400 (Tue, 07 Oct 2025) EllapsedTime: 56.1 seconds RetCode: 0 Status: OK PackageFile: sva_3.56.0.tgz PackageFileSize: 526.1 KiB