Package: sva Version: 3.56.0 Command: /Library/Frameworks/R.framework/Resources/bin/R CMD INSTALL sva StartedAt: 2025-04-21 15:22:53 -0400 (Mon, 21 Apr 2025) EndedAt: 2025-04-21 15:23:21 -0400 (Mon, 21 Apr 2025) EllapsedTime: 27.6 seconds RetCode: 0 Status: OK