Package: sva Version: 3.56.0 Command: rm -rf sva.buildbin-libdir && mkdir sva.buildbin-libdir && /Users/biocbuild/BBS/utils/build-universal.sh sva_3.56.0.tar.gz /Library/Frameworks/R.framework/Resources/bin/R sva.buildbin-libdir StartedAt: 2025-04-22 01:12:21 -0400 (Tue, 22 Apr 2025) EndedAt: 2025-04-22 01:12:53 -0400 (Tue, 22 Apr 2025) EllapsedTime: 31.3 seconds RetCode: 0 Status: OK PackageFile: sva_3.56.0.tgz PackageFileSize: 527.5 KiB