Package: sva Version: 3.56.0 Command: /home/biocbuild/R/R/bin/R CMD INSTALL sva StartedAt: 2025-10-06 20:41:04 -0000 (Mon, 06 Oct 2025) EndedAt: 2025-10-06 20:41:32 -0000 (Mon, 06 Oct 2025) EllapsedTime: 27.8 seconds RetCode: 0 Status: OK