Package: sva Version: 3.56.0 Command: /Library/Frameworks/R.framework/Resources/bin/R CMD INSTALL sva StartedAt: 2025-10-06 15:51:00 -0400 (Mon, 06 Oct 2025) EndedAt: 2025-10-06 15:51:24 -0400 (Mon, 06 Oct 2025) EllapsedTime: 23.6 seconds RetCode: 0 Status: OK