Package: sva Version: 3.56.0 Command: rm -rf sva.buildbin-libdir && mkdir sva.buildbin-libdir && /Users/biocbuild/BBS/utils/build-universal.sh sva_3.56.0.tar.gz /Library/Frameworks/R.framework/Resources/bin/R sva.buildbin-libdir StartedAt: 2025-10-08 23:19:59 -0400 (Wed, 08 Oct 2025) EndedAt: 2025-10-08 23:20:27 -0400 (Wed, 08 Oct 2025) EllapsedTime: 28.1 seconds RetCode: 0 Status: OK PackageFile: sva_3.56.0.tgz PackageFileSize: 527.4 KiB