Package: supraHex Version: 1.46.0 Command: /Library/Frameworks/R.framework/Resources/bin/R CMD build --keep-empty-dirs --no-resave-data supraHex StartedAt: 2025-10-14 10:40:13 -0400 (Tue, 14 Oct 2025) EndedAt: 2025-10-14 10:40:26 -0400 (Tue, 14 Oct 2025) EllapsedTime: 13.7 seconds RetCode: 1 Status: ERROR PackageFile: None PackageFileSize: NA