Package: strandCheckR Version: 1.26.0 Command: /Library/Frameworks/R.framework/Resources/bin/R CMD INSTALL strandCheckR StartedAt: 2025-10-13 16:38:35 -0400 (Mon, 13 Oct 2025) EndedAt: 2025-10-13 16:39:54 -0400 (Mon, 13 Oct 2025) EllapsedTime: 78.7 seconds RetCode: 0 Status: OK