Package: strandCheckR Version: 1.26.0 Command: /Library/Frameworks/R.framework/Resources/bin/R CMD build --keep-empty-dirs --no-resave-data strandCheckR StartedAt: 2025-10-13 23:03:45 -0400 (Mon, 13 Oct 2025) EndedAt: 2025-10-13 23:05:55 -0400 (Mon, 13 Oct 2025) EllapsedTime: 130.4 seconds RetCode: 0 Status: OK PackageFile: strandCheckR_1.26.0.tar.gz PackageFileSize: 1.226 MiB