Package: strandCheckR Version: 1.26.0 Command: /Library/Frameworks/R.framework/Resources/bin/R CMD check --install=check:strandCheckR.install-out.txt --library=/Library/Frameworks/R.framework/Resources/library --no-vignettes --timings strandCheckR_1.26.0.tar.gz StartedAt: 2025-10-15 14:31:06 -0400 (Wed, 15 Oct 2025) EndedAt: 2025-10-15 14:36:51 -0400 (Wed, 15 Oct 2025) EllapsedTime: 344.9 seconds RetCode: 0 Status: OK CheckDir: strandCheckR.Rcheck Warnings: 0