Package: statTarget Version: 1.38.0 Command: chmod a+r statTarget -R && E:\biocbuild\bbs-3.21-bioc\R\bin\R.exe CMD build --keep-empty-dirs --no-resave-data statTarget StartedAt: 2025-08-14 22:33:43 -0400 (Thu, 14 Aug 2025) EndedAt: 2025-08-14 22:34:15 -0400 (Thu, 14 Aug 2025) EllapsedTime: 31.9 seconds RetCode: 0 Status: OK PackageFile: statTarget_1.38.0.tar.gz PackageFileSize: 779.3 KiB