Package: statTarget Version: 1.38.0 Command: rm -rf statTarget.buildbin-libdir && mkdir statTarget.buildbin-libdir && E:\biocbuild\bbs-3.21-bioc\R\bin\R.exe CMD INSTALL --build --library=statTarget.buildbin-libdir statTarget_1.38.0.tar.gz StartedAt: 2025-08-15 10:25:10 -0400 (Fri, 15 Aug 2025) EndedAt: 2025-08-15 10:25:49 -0400 (Fri, 15 Aug 2025) EllapsedTime: 39.2 seconds RetCode: 0 Status: OK PackageFile: statTarget_1.38.0.zip PackageFileSize: 976.2 KiB