Package: statTarget Version: 1.38.0 Command: rm -rf statTarget.buildbin-libdir && mkdir statTarget.buildbin-libdir && /Users/biocbuild/BBS/utils/build-universal.sh statTarget_1.38.0.tar.gz /Library/Frameworks/R.framework/Resources/bin/R statTarget.buildbin-libdir StartedAt: 2025-10-14 14:54:16 -0400 (Tue, 14 Oct 2025) EndedAt: 2025-10-14 14:54:35 -0400 (Tue, 14 Oct 2025) EllapsedTime: 18.4 seconds RetCode: 0 Status: OK PackageFile: statTarget_1.38.0.tgz PackageFileSize: 972.6 KiB