Package: standR Version: 1.12.0 Command: /Library/Frameworks/R.framework/Resources/bin/R CMD INSTALL standR StartedAt: 2025-10-13 18:05:07 -0400 (Mon, 13 Oct 2025) EndedAt: 2025-10-13 18:05:37 -0400 (Mon, 13 Oct 2025) EllapsedTime: 30.2 seconds RetCode: 0 Status: OK