Package: standR Version: 1.12.0 Command: /Library/Frameworks/R.framework/Resources/bin/R CMD check --install=check:standR.install-out.txt --library=/Library/Frameworks/R.framework/Resources/library --no-vignettes --timings standR_1.12.0.tar.gz StartedAt: 2025-10-15 14:26:37 -0400 (Wed, 15 Oct 2025) EndedAt: 2025-10-15 14:32:28 -0400 (Wed, 15 Oct 2025) EllapsedTime: 351.2 seconds RetCode: 0 Status: OK CheckDir: standR.Rcheck Warnings: 0