Package: standR Version: 1.12.0 Command: /Library/Frameworks/R.framework/Resources/bin/R CMD build --keep-empty-dirs --no-resave-data standR StartedAt: 2025-10-14 10:28:38 -0400 (Tue, 14 Oct 2025) EndedAt: 2025-10-14 10:30:41 -0400 (Tue, 14 Oct 2025) EllapsedTime: 122.5 seconds RetCode: 0 Status: OK PackageFile: standR_1.12.0.tar.gz PackageFileSize: 3.013 MiB