Package: standR Version: 1.12.0 Command: rm -rf standR.buildbin-libdir && mkdir standR.buildbin-libdir && /Users/biocbuild/BBS/utils/build-universal.sh standR_1.12.0.tar.gz /Library/Frameworks/R.framework/Resources/bin/R standR.buildbin-libdir StartedAt: 2025-10-15 20:43:49 -0400 (Wed, 15 Oct 2025) EndedAt: 2025-10-15 20:44:23 -0400 (Wed, 15 Oct 2025) EllapsedTime: 34.2 seconds RetCode: 0 Status: OK PackageFile: standR_1.12.0.tgz PackageFileSize: 3.122 MiB