Package: staRank Version: 1.50.0 Command: /home/biocbuild/bbs-3.21-bioc/R/bin/R CMD INSTALL staRank StartedAt: 2025-10-01 16:09:36 -0400 (Wed, 01 Oct 2025) EndedAt: 2025-10-01 16:09:36 -0400 (Wed, 01 Oct 2025) EllapsedTime: 0.2 seconds RetCode: 1 Status: ERROR