Package: staRank Version: 1.50.0 Command: /home/biocbuild/bbs-3.21-bioc/R/bin/R CMD build --keep-empty-dirs --no-resave-data staRank StartedAt: 2025-10-01 20:14:51 -0400 (Wed, 01 Oct 2025) EndedAt: 2025-10-01 20:14:52 -0400 (Wed, 01 Oct 2025) EllapsedTime: 1.0 seconds RetCode: 1 Status: ERROR PackageFile: None PackageFileSize: NA