Package: ssviz Version: 1.42.0 Command: E:\biocbuild\bbs-3.21-bioc\R\bin\R.exe CMD INSTALL ssviz StartedAt: 2025-08-14 15:55:38 -0400 (Thu, 14 Aug 2025) EndedAt: 2025-08-14 15:56:05 -0400 (Thu, 14 Aug 2025) EllapsedTime: 27.6 seconds RetCode: 0 Status: OK